BEGIN:VCALENDAR
VERSION:2.0
PRODID:-//Contratero//ES
CALSCALE:GREGORIAN
METHOD:PUBLISH
BEGIN:VEVENT
UID:T-SU 20.04/022020 L4.8@contratero.es
DTSTAMP:20260425T214522Z
DTSTART:20230612T235959
DTEND:20230613T005959
SUMMARY:Cierre: Suministro de Dispositivos de Impresión
DESCRIPTION:Suministro de Dispositivos de Impresión\\n\\nOrganismo: Gerencia de Transportes Interurbanos de Tenerife S.A.U.\\n\\nVer en Contratero: https://contratero.es/contracts/T-SU 20.04/022020 L4.8
URL:https://contratero.es/contracts/T-SU 20.04/022020 L4.8
STATUS:CONFIRMED
BEGIN:VALARM
TRIGGER:-P1D
ACTION:DISPLAY
DESCRIPTION:Recordatorio: Suministro de Dispositivos de 
END:VALARM
END:VEVENT
END:VCALENDAR